BEGIN:VCALENDAR
VERSION:2.0
PRODID:-//Parento Library - ECPv6.11.2.1//NONSGML v1.0//EN
CALSCALE:GREGORIAN
METHOD:PUBLISH
X-WR-CALNAME:Parento Library
X-ORIGINAL-URL:https://library.parento.me
X-WR-CALDESC:Events for Parento Library
REFRESH-INTERVAL;VALUE=DURATION:PT1H
X-Robots-Tag:noindex
X-PUBLISHED-TTL:PT1H
BEGIN:VTIMEZONE
TZID:America/New_York
BEGIN:DAYLIGHT
TZOFFSETFROM:-0500
TZOFFSETTO:-0400
TZNAME:EDT
DTSTART:20260308T070000
END:DAYLIGHT
BEGIN:STANDARD
TZOFFSETFROM:-0400
TZOFFSETTO:-0500
TZNAME:EST
DTSTART:20261101T060000
END:STANDARD
END:VTIMEZONE
BEGIN:VEVENT
DTSTART;TZID=America/New_York:20260420T193000
DTEND;TZID=America/New_York:20260420T203000
DTSTAMP:20260420T030328
CREATED:20260324T204335Z
LAST-MODIFIED:20260324T204335Z
UID:10000587-1776713400-1776717000@library.parento.me
SUMMARY:Prepared Parenting: Breastfeeding Basics
DESCRIPTION:Feeding your baby doesn’t have to be overwhelming\nThis session covers what to expect and how to prepare: from latch and feeding cues to bottle options and pumping. We’ll share honest tips\, troubleshoot common challenges\, and help you feel ready—whatever your feeding plan looks like. Partners welcome! \n👉 [Register here] – Monday April 20\, 7:30pm ET / 4:30pm PT \nCan’t make it? Email amanda@parentoleave.com to schedule a private session
URL:https://library.parento.me/event/prepared-parenting-breastfeeding-basics-5/
LOCATION:Virtual
CATEGORIES:Expectant and New Parents
ATTACH;FMTTYPE=image/png:https://library.parento.me/wp-content/uploads/2026/01/Event-Registration-Graphics-15.png
END:VEVENT
END:VCALENDAR