BEGIN:VCALENDAR
VERSION:2.0
PRODID:-//Parento Library - ECPv6.11.2.1//NONSGML v1.0//EN
CALSCALE:GREGORIAN
METHOD:PUBLISH
X-WR-CALNAME:Parento Library
X-ORIGINAL-URL:https://library.parento.me
X-WR-CALDESC:Events for Parento Library
REFRESH-INTERVAL;VALUE=DURATION:PT1H
X-Robots-Tag:noindex
X-PUBLISHED-TTL:PT1H
BEGIN:VTIMEZONE
TZID:America/Halifax
BEGIN:DAYLIGHT
TZOFFSETFROM:-0400
TZOFFSETTO:-0300
TZNAME:ADT
DTSTART:20240310T060000
END:DAYLIGHT
BEGIN:STANDARD
TZOFFSETFROM:-0300
TZOFFSETTO:-0400
TZNAME:AST
DTSTART:20241103T050000
END:STANDARD
END:VTIMEZONE
BEGIN:VEVENT
DTSTART;TZID=America/Halifax:20240410T130000
DTEND;TZID=America/Halifax:20240410T133000
DTSTAMP:20260419T092107
CREATED:20240404T005609Z
LAST-MODIFIED:20240404T005609Z
UID:10000206-1712754000-1712755800@library.parento.me
SUMMARY:LinkedIn Live with Boulo: Redefining Parental Leave
DESCRIPTION:Join Abigail Kidd of Parento and Delphine Carter of Boulo for an engaging discussion on the advantages of parental leave and flexible work hours for both parents and businesses. \nWe’ll explore key topics\, such as: \n– Misconceptions about parental leave policies\n– Significant benefits of hiring parents\n– Transferable skills gained from parenthood \nUncover strategies for fostering a workplace culture that champions the well-being of working parents. Don’t miss this event—secure your spot now!
URL:https://library.parento.me/event/linkedin-live-with-boulo-redefining-parental-leave/
LOCATION:Virtual
CATEGORIES:All Parents,Leadership, Managers and HR
ATTACH;FMTTYPE=image/jpeg:https://library.parento.me/wp-content/uploads/2024/04/Boulo-Live.jpg
END:VEVENT
END:VCALENDAR