BEGIN:VCALENDAR
VERSION:2.0
PRODID:-//Parento Library - ECPv6.11.2.1//NONSGML v1.0//EN
CALSCALE:GREGORIAN
METHOD:PUBLISH
X-WR-CALNAME:Parento Library
X-ORIGINAL-URL:https://library.parento.me
X-WR-CALDESC:Events for Parento Library
REFRESH-INTERVAL;VALUE=DURATION:PT1H
X-Robots-Tag:noindex
X-PUBLISHED-TTL:PT1H
BEGIN:VTIMEZONE
TZID:America/New_York
BEGIN:DAYLIGHT
TZOFFSETFROM:-0500
TZOFFSETTO:-0400
TZNAME:EDT
DTSTART:20250309T070000
END:DAYLIGHT
BEGIN:STANDARD
TZOFFSETFROM:-0400
TZOFFSETTO:-0500
TZNAME:EST
DTSTART:20251102T060000
END:STANDARD
END:VTIMEZONE
BEGIN:VEVENT
DTSTART;TZID=America/New_York:20250521T190000
DTEND;TZID=America/New_York:20250521T200000
DTSTAMP:20260419T133941
CREATED:20250408T210914Z
LAST-MODIFIED:20250408T210914Z
UID:10000284-1747854000-1747857600@library.parento.me
SUMMARY:(You're) Enough\, Already: Rewriting Success to Beat Burnout
DESCRIPTION:A 4-week small group for working parents who are ready to reclaim their time\, energy\, and peace. \nIf you’ve been feeling like you’re constantly behind\, stretched thin\, or quietly wondering if you’re doing enough—you’re not alone. \nEnough\, Already is a space for working parents to step off the hamster wheel of burnout and perfection\, and build something better. Together\, we’ll get honest about the expectations we carry\, learn how to protect our energy\, and redefine success in a way that actually supports us. \nOver 4 weeks\, we’ll meet weekly for 45 minutes\, with reflection prompts and conversation threads in Slack to keep you supported in between. \nYou’ll walk away with:\n 💭 A clearer understanding of your personal version of “enough”\n 🔒 Boundaries that protect your time and energy\n 🧭 Tools to spot and stop burnout in its tracks\n 🌱 A more sustainable\, connected way of showing up at home and work \nYou don’t need to fix everything. You just need a little space\, some support\, and permission to stop trying so hard. \nWednesdays 7pm ET / 4pm PT \n\n4/30    Week 1: The Cost of “Doing It All”\n5/7     Week 2: Boundaries Actually That Protect Your Energy\n5/14    Week 3: Ditching Perfection\, Embracing Presence\n5/21    Week 4: Designing a Sustainable Rhythm\n\nRegister here
URL:https://library.parento.me/event/youre-enough-already-rewriting-success-to-beat-burnout/2025-05-21/
LOCATION:Virtual
CATEGORIES:All Parents
ATTACH;FMTTYPE=image/png:https://library.parento.me/wp-content/uploads/2025/04/Event-Registration-Graphic-4.png
END:VEVENT
BEGIN:VEVENT
DTSTART;TZID=America/New_York:20250620T150000
DTEND;TZID=America/New_York:20250620T153000
DTSTAMP:20260419T133941
CREATED:20250610T184508Z
LAST-MODIFIED:20250610T184508Z
UID:10000289-1750431600-1750433400@library.parento.me
SUMMARY:Wild & Ready: Your Summer Survival Tips
DESCRIPTION:Wild & Ready: Your Summer Survival Tips\nA 30-minute webinar for parents who want to do less micromanaging—and more empowering.\n 🗓️ June 20 | 3pm ET / 12pm PT \nSummer’s here—and with it comes the chaos\, the freedom\, and the perfect chance to rethink how we show up as parents. In this fast\, fun\, and practical webinar\, we’ll explore how stepping back can help our kids step up. You’ll walk away with simple tools to encourage independence\, handle your own “what if” worries\, and make the most of summer’s unstructured moments. \nWhy You’ll Want to Join: \n✅ Get quick wins you can use right away to support independence and reduce daily battles\n✅ Learn why boredom\, struggle\, and risk are actually good for your child’s development\n✅ Understand how overprotection backfires—and what to do instead (without going full hands-off)\n✅ Pick up tools to manage your anxiety while helping your child build resilience\n✅ Reconnect with your parenting values and feel more confident in the choices you’re making \n👉 Come for the tips. Stay for the mindset shift.
URL:https://library.parento.me/event/wild-ready-your-summer-survival-tips/
LOCATION:Virtual
CATEGORIES:All Parents
ATTACH;FMTTYPE=image/png:https://library.parento.me/wp-content/uploads/2025/06/Event-Registration-Graphic-6.png
END:VEVENT
BEGIN:VEVENT
DTSTART;TZID=America/New_York:20250814T150000
DTEND;TZID=America/New_York:20250814T153000
DTSTAMP:20260419T133941
CREATED:20250722T210337Z
LAST-MODIFIED:20250723T155136Z
UID:10000559-1755183600-1755185400@library.parento.me
SUMMARY:Plugged In\, Tuned Out
DESCRIPTION:Screen time is changing childhood – and not for the better \nThe average child spends 7 ½ hours a day on screens and it’s reshaping their brains\, bodies\, and relationships. In this 30-minute workshop\, we’ll unpack the real impact of too much screen time\, what kids are losing in the trade-off\, and what you can do right now to reclaim your child’s time\, attention\, and well-being. This is your invitation to push back—with purpose. \n  \n👉 [Register here] – Thursday\, Aug 14 3pm ET / 12pm PT 
URL:https://library.parento.me/event/plugged-in-tuned-out/
LOCATION:Virtual
CATEGORIES:All Parents
ATTACH;FMTTYPE=image/png:https://library.parento.me/wp-content/uploads/2025/07/Event-Registration-Graphics-6.png
END:VEVENT
BEGIN:VEVENT
DTSTART;TZID=America/New_York:20250911T120000
DTEND;TZID=America/New_York:20250911T123000
DTSTAMP:20260419T133941
CREATED:20250828T154650Z
LAST-MODIFIED:20250828T154650Z
UID:10000562-1757592000-1757593800@library.parento.me
SUMMARY:Reset & Regulate: Simple Strategies for Busy Parents
DESCRIPTION:Back-to-school season can feel like a whirlwind—new schedules\, shifting routines\, and kids (and parents!) riding the waves of big emotions. If you’re feeling stretched thin\, this workshop is for you. \nIn just 30 minutes\, you’ll learn simple\, science-backed techniques to bring yourself back to calm and centered—even in the middle of the morning rush or after-school meltdowns. We’ll define what “regulated” and “dysregulated” really look and feel like (for you and your kids)\, and practice easy\, everyday tools like breath work\, mantras\, and micro-movements that help restore balance. \nYou’ll walk away with: \n\nA clear picture of what regulation looks like in your family.\n\nPractical\, kid-friendly strategies you can use in the moment.\n\nQuick resets you can weave into your day—no extra time required.\n\n\nThink of it as your mini reset button for this season of transition. Come ready to breathe\, move\, and leave lighter. \n👉 [Register here] – Thursday\, Sept 11 12pm ET / 9am PT
URL:https://library.parento.me/event/reset-regulate-simple-strategies-for-busy-parents/
LOCATION:Virtual
CATEGORIES:All Parents,Expectant and New Parents,Leadership, Managers and HR
ATTACH;FMTTYPE=image/png:https://library.parento.me/wp-content/uploads/2025/08/Event-Registration-Graphics-2.png
END:VEVENT
END:VCALENDAR